BEGIN:VCALENDAR
VERSION:2.0
PRODID:-//Keyneton Motorcyle Club Inc. - ECPv6.15.20//NONSGML v1.0//EN
CALSCALE:GREGORIAN
METHOD:PUBLISH
X-WR-CALNAME:Keyneton Motorcyle Club Inc.
X-ORIGINAL-URL:https://keynetonmcc.asn.au
X-WR-CALDESC:Events for Keyneton Motorcyle Club Inc.
REFRESH-INTERVAL;VALUE=DURATION:PT1H
X-Robots-Tag:noindex
X-PUBLISHED-TTL:PT1H
BEGIN:VTIMEZONE
TZID:Australia/Adelaide
BEGIN:STANDARD
TZOFFSETFROM:+1030
TZOFFSETTO:+0930
TZNAME:ACST
DTSTART:20170401T163000
END:STANDARD
BEGIN:DAYLIGHT
TZOFFSETFROM:+0930
TZOFFSETTO:+1030
TZNAME:ACDT
DTSTART:20170930T163000
END:DAYLIGHT
BEGIN:STANDARD
TZOFFSETFROM:+1030
TZOFFSETTO:+0930
TZNAME:ACST
DTSTART:20180331T163000
END:STANDARD
BEGIN:DAYLIGHT
TZOFFSETFROM:+0930
TZOFFSETTO:+1030
TZNAME:ACDT
DTSTART:20181006T163000
END:DAYLIGHT
BEGIN:STANDARD
TZOFFSETFROM:+1030
TZOFFSETTO:+0930
TZNAME:ACST
DTSTART:20190406T163000
END:STANDARD
BEGIN:DAYLIGHT
TZOFFSETFROM:+0930
TZOFFSETTO:+1030
TZNAME:ACDT
DTSTART:20191005T163000
END:DAYLIGHT
BEGIN:STANDARD
TZOFFSETFROM:+1030
TZOFFSETTO:+0930
TZNAME:ACST
DTSTART:20200404T163000
END:STANDARD
BEGIN:DAYLIGHT
TZOFFSETFROM:+0930
TZOFFSETTO:+1030
TZNAME:ACDT
DTSTART:20201003T163000
END:DAYLIGHT
BEGIN:STANDARD
TZOFFSETFROM:+1030
TZOFFSETTO:+0930
TZNAME:ACST
DTSTART:20210403T163000
END:STANDARD
BEGIN:DAYLIGHT
TZOFFSETFROM:+0930
TZOFFSETTO:+1030
TZNAME:ACDT
DTSTART:20211002T163000
END:DAYLIGHT
BEGIN:STANDARD
TZOFFSETFROM:+1030
TZOFFSETTO:+0930
TZNAME:ACST
DTSTART:20220402T163000
END:STANDARD
BEGIN:DAYLIGHT
TZOFFSETFROM:+0930
TZOFFSETTO:+1030
TZNAME:ACDT
DTSTART:20221001T163000
END:DAYLIGHT
BEGIN:STANDARD
TZOFFSETFROM:+1030
TZOFFSETTO:+0930
TZNAME:ACST
DTSTART:20230401T163000
END:STANDARD
BEGIN:DAYLIGHT
TZOFFSETFROM:+0930
TZOFFSETTO:+1030
TZNAME:ACDT
DTSTART:20230930T163000
END:DAYLIGHT
BEGIN:STANDARD
TZOFFSETFROM:+1030
TZOFFSETTO:+0930
TZNAME:ACST
DTSTART:20240406T163000
END:STANDARD
BEGIN:DAYLIGHT
TZOFFSETFROM:+0930
TZOFFSETTO:+1030
TZNAME:ACDT
DTSTART:20241005T163000
END:DAYLIGHT
END:VTIMEZONE
BEGIN:VEVENT
DTSTART;TZID=Australia/Adelaide:20230930T090000
DTEND;TZID=Australia/Adelaide:20231001T153000
DTSTAMP:20260426T005106
CREATED:20150929T082616Z
LAST-MODIFIED:20230405T112838Z
UID:775-1696064400-1696174200@keynetonmcc.asn.au
SUMMARY:2023 Australian Trial Championships
DESCRIPTION:To be held at Eden Valley over the weekend of September 30 and October 1 2023\, the Keyneton MCC\, and the Trials South Australia community\, are looking forward to welcoming and hosting riders\, and their families and supporters\, from all states of Australia\, and perhaps even from New Zealand as well.
URL:https://keynetonmcc.asn.au/event/the-scottish-2-day-moto-trial/
LOCATION:Eden Valley\, South Australia\, Australia
CATEGORIES:Open Events
ATTACH;FMTTYPE=image/png:https://keynetonmcc.asn.au/wp-content/uploads/2022/12/FIM-Oceania-Logo.png
END:VEVENT
BEGIN:VEVENT
DTSTART;TZID=Australia/Adelaide:20230912T193000
DTEND;TZID=Australia/Adelaide:20230912T213000
DTSTAMP:20260426T005106
CREATED:20141124T121118Z
LAST-MODIFIED:20230405T104646Z
UID:132-1694547000-1694554200@keynetonmcc.asn.au
SUMMARY:Executive Meeting
DESCRIPTION:To get to the Club\, turn right at the top of the Angaston main street (Murray St.) and follow the Eden Valley road out past the Barossa’s famous Yalumba winery until you see the Keyneton MCC road sign on the Flaxmans Valley Road intersection. Follow the road out about 3 kilometres until you crest a rise with the Wroxton Grange bed & breakfast on your right\, the Club is about 100 metres down on the left hand side.
URL:https://keynetonmcc.asn.au/event/excecutive-meeting-9/
LOCATION:Wilton\, Barossa Valley\, 281 Wilton Rd\, Angaston\, South Australia\, Australia
CATEGORIES:Meetings
ATTACH;FMTTYPE=image/png:https://keynetonmcc.asn.au/wp-content/uploads/2014/10/KeyLogo_col.png
END:VEVENT
BEGIN:VEVENT
DTSTART;VALUE=DATE:20230826
DTEND;VALUE=DATE:20230827
DTSTAMP:20260426T005106
CREATED:20230405T113022Z
LAST-MODIFIED:20230405T115526Z
UID:555-1693008000-1693094399@keynetonmcc.asn.au
SUMMARY:Rnd 6. South Australian Off Road Championship
DESCRIPTION:Round 6 of the South Australian Off Road Championship will be hosted by the Keyneton Motorcycle Club. \n\nRound 5 of the 2023 South Australian Off Road Championships at Keyneton\, presented by the Keyneton Motorcycle Club is scheduled for 26th August 2023. \nRound 5 and 6 is running alongside AORC rounds 7 and 8 \n\nThe event will be located 3.5kms from the town ship of Keyneton (10km east of Angaston in the Barossa Valley)\nTravelling from Angaston–Turn left from the Stott Highway on to Keyneton Road (main cross road in the middle of the Keyneton township) and head north 2.3 km to a cross road. Turn right onto Paschke Road and\ntravel east 1km. The pits will be on the left. The route to the event will be signposted from Keyneton.
URL:https://keynetonmcc.asn.au/event/kmcc-sprint/
LOCATION:Keyneton\, Keyneton\, Australia
CATEGORIES:Open Events
ATTACH;FMTTYPE=image/png:https://keynetonmcc.asn.au/wp-content/uploads/2015/01/SAORC-Logo.png
END:VEVENT
BEGIN:VEVENT
DTSTART;TZID=Australia/Adelaide:20230808T193000
DTEND;TZID=Australia/Adelaide:20230808T213000
DTSTAMP:20260426T005106
CREATED:20141124T120647Z
LAST-MODIFIED:20230405T104348Z
UID:131-1691523000-1691530200@keynetonmcc.asn.au
SUMMARY:Executive Meeting
DESCRIPTION:To get to the Club\, turn right at the top of the Angaston main street (Murray St.) and follow the Eden Valley road out past the Barossa’s famous Yalumba winery until you see the Keyneton MCC road sign on the Flaxmans Valley Road intersection. Follow the road out about 3 kilometres until you crest a rise with the Wroxton Grange bed & breakfast on your right\, the Club is about 100 metres down on the left hand side.
URL:https://keynetonmcc.asn.au/event/excecutive-meeting-8/
LOCATION:Wilton\, Barossa Valley\, 281 Wilton Rd\, Angaston\, South Australia\, Australia
CATEGORIES:Meetings
ATTACH;FMTTYPE=image/png:https://keynetonmcc.asn.au/wp-content/uploads/2014/10/KeyLogo_col.png
END:VEVENT
BEGIN:VEVENT
DTSTART;TZID=Australia/Adelaide:20230711T193000
DTEND;TZID=Australia/Adelaide:20230711T213000
DTSTAMP:20260426T005106
CREATED:20141124T120501Z
LAST-MODIFIED:20230405T111135Z
UID:130-1689103800-1689111000@keynetonmcc.asn.au
SUMMARY:Executive Meeting
DESCRIPTION:To get to the Club\, turn right at the top of the Angaston main street (Murray St.) and follow the Eden Valley road out past the Barossa’s famous Yalumba winery until you see the Keyneton MCC road sign on the Flaxmans Valley Road intersection. Follow the road out about 3 kilometres until you crest a rise with the Wroxton Grange bed & breakfast on your right\, the Club is about 100 metres down on the left hand side.
URL:https://keynetonmcc.asn.au/event/excecutive-meeting-7/
LOCATION:Wilton\, Barossa Valley\, 281 Wilton Rd\, Angaston\, South Australia\, Australia
CATEGORIES:Meetings
ATTACH;FMTTYPE=image/png:https://keynetonmcc.asn.au/wp-content/uploads/2014/10/KeyLogo_col.png
END:VEVENT
BEGIN:VEVENT
DTSTART;TZID=Australia/Adelaide:20230613T193000
DTEND;TZID=Australia/Adelaide:20230613T230000
DTSTAMP:20260426T005106
CREATED:20170301T131153Z
LAST-MODIFIED:20230405T111613Z
UID:1198-1686684600-1686697200@keynetonmcc.asn.au
SUMMARY:Executive Meeting
DESCRIPTION:To get to the Club\, turn right at the top of the Angaston main street (Murray St.) and follow the Eden Valley road out past the Barossa’s famous Yalumba winery until you see the Keyneton MCC road sign on the Flaxmans Valley Road intersection. Follow the road out about 3 kilometres until you crest a rise with the Wroxton Grange bed & breakfast on your right\, the Club is about 100 metres down on the left hand side.
URL:https://keynetonmcc.asn.au/event/executive-meeting-14/
LOCATION:Wilton\, Barossa Valley\, 281 Wilton Rd\, Angaston\, South Australia\, Australia
CATEGORIES:Meetings
ATTACH;FMTTYPE=image/png:https://keynetonmcc.asn.au/wp-content/uploads/2014/10/KeyLogo_col.png
END:VEVENT
BEGIN:VEVENT
DTSTART;TZID=Australia/Adelaide:20230613T193000
DTEND;TZID=Australia/Adelaide:20230613T213000
DTSTAMP:20260426T005106
CREATED:20141124T120304Z
LAST-MODIFIED:20230405T103841Z
UID:129-1686684600-1686691800@keynetonmcc.asn.au
SUMMARY:Executive Meeting
DESCRIPTION:To get to the Club\, turn right at the top of the Angaston main street (Murray St.) and follow the Eden Valley road out past the Barossa’s famous Yalumba winery until you see the Keyneton MCC road sign on the Flaxmans Valley Road intersection. Follow the road out about 3 kilometres until you crest a rise with the Wroxton Grange bed & breakfast on your right\, the Club is about 100 metres down on the left hand side.
URL:https://keynetonmcc.asn.au/event/excecutive-meeting-6/
LOCATION:Wilton\, Barossa Valley\, 281 Wilton Rd\, Angaston\, South Australia\, Australia
CATEGORIES:Meetings
ATTACH;FMTTYPE=image/png:https://keynetonmcc.asn.au/wp-content/uploads/2014/10/KeyLogo_col.png
END:VEVENT
BEGIN:VEVENT
DTSTART;TZID=Australia/Adelaide:20230509T193000
DTEND;TZID=Australia/Adelaide:20230509T213000
DTSTAMP:20260426T005106
CREATED:20170103T084742Z
LAST-MODIFIED:20230405T103257Z
UID:1150-1683660600-1683667800@keynetonmcc.asn.au
SUMMARY:Executive Meeting
DESCRIPTION:To get to the Club\, turn right at the top of the Angaston main street (Murray St.) and follow the Eden Valley road out past the Barossa’s famous Yalumba winery until you see the Keyneton MCC road sign on the Flaxmans Valley Road intersection. Follow the road out about 3 kilometres until you crest a rise with the Wroxton Grange bed & breakfast on your right\, the Club is about 100 metres down on the left hand side.
URL:https://keynetonmcc.asn.au/event/executive-meeting/
LOCATION:Wilton\, Barossa Valley\, 281 Wilton Rd\, Angaston\, South Australia\, Australia
CATEGORIES:Meetings
ATTACH;FMTTYPE=image/png:https://keynetonmcc.asn.au/wp-content/uploads/2014/10/KeyLogo_col.png
END:VEVENT
BEGIN:VEVENT
DTSTART;TZID=Australia/Adelaide:20230411T193000
DTEND;TZID=Australia/Adelaide:20230411T230000
DTSTAMP:20260426T005106
CREATED:20230405T110204Z
LAST-MODIFIED:20230405T110250Z
UID:1821-1681241400-1681254000@keynetonmcc.asn.au
SUMMARY:Executive Meeting
DESCRIPTION:To get to the Club\, turn right at the top of the Angaston main street (Murray St.) and follow the Eden Valley road out past the Barossa’s famous Yalumba winery until you see the Keyneton MCC road sign on the Flaxmans Valley Road intersection. Follow the road out about 3 kilometres until you crest a rise with the Wroxton Grange bed & breakfast on your right\, the Club is about 100 metres down on the left hand side.
URL:https://keynetonmcc.asn.au/event/executive-meeting-4/
LOCATION:Wilton\, Barossa Valley\, 281 Wilton Rd\, Angaston\, South Australia\, Australia
CATEGORIES:Meetings
ATTACH;FMTTYPE=image/png:https://keynetonmcc.asn.au/wp-content/uploads/2014/10/KeyLogo_col.png
END:VEVENT
BEGIN:VEVENT
DTSTART;TZID=Australia/Adelaide:20230411T193000
DTEND;TZID=Australia/Adelaide:20230411T230000
DTSTAMP:20260426T005106
CREATED:20141124T120134Z
LAST-MODIFIED:20230405T102651Z
UID:128-1681241400-1681254000@keynetonmcc.asn.au
SUMMARY:Executive Meeting
DESCRIPTION:To get to the Club\, turn right at the top of the Angaston main street (Murray St.) and follow the Eden Valley road out past the Barossa’s famous Yalumba winery until you see the Keyneton MCC road sign on the Flaxmans Valley Road intersection. Follow the road out about 3 kilometres until you crest a rise with the Wroxton Grange bed & breakfast on your right\, the Club is about 100 metres down on the left hand side.
URL:https://keynetonmcc.asn.au/event/excecutive-meeting-5/
LOCATION:Wilton\, Barossa Valley\, 281 Wilton Rd\, Angaston\, South Australia\, Australia
CATEGORIES:Meetings
ATTACH;FMTTYPE=image/png:https://keynetonmcc.asn.au/wp-content/uploads/2014/10/KeyLogo_col.png
END:VEVENT
BEGIN:VEVENT
DTSTART;TZID=Australia/Adelaide:20230314T193000
DTEND;TZID=Australia/Adelaide:20230314T213000
DTSTAMP:20260426T005106
CREATED:20190124T072353Z
LAST-MODIFIED:20230405T105043Z
UID:1511-1678822200-1678829400@keynetonmcc.asn.au
SUMMARY:Executive Meeting
DESCRIPTION:To get to the Club\, turn right at the top of the Angaston main street (Murray St.) and follow the Eden Valley road out past the Barossa’s famous Yalumba winery until you see the Keyneton MCC road sign on the Flaxmans Valley Road intersection. Follow the road out about 3 kilometres until you crest a rise with the Wroxton Grange bed & breakfast on your right\, the Club is about 100 metres down on the left hand side.
URL:https://keynetonmcc.asn.au/event/executive-meeting-3/
LOCATION:Angaston Machine Preservation Society\, Fife Street\, Angaston
CATEGORIES:Meetings
ATTACH;FMTTYPE=image/png:https://keynetonmcc.asn.au/wp-content/uploads/2014/10/KeyLogo_col.png
END:VEVENT
BEGIN:VEVENT
DTSTART;TZID=Australia/Adelaide:20230228T193000
DTEND;TZID=Australia/Adelaide:20230228T230000
DTSTAMP:20260426T005106
CREATED:20141124T120007Z
LAST-MODIFIED:20260225T124151Z
UID:127-1677612600-1677625200@keynetonmcc.asn.au
SUMMARY:General Meeting
DESCRIPTION:To get to the Club\, turn right at the top of the Angaston main street (Murray St.) and follow the Eden Valley road out past the Barossa’s famous Yalumba winery until you see the Keyneton MCC road sign on the Flaxmans Valley Road intersection. Follow the road out about 3 kilometres until you crest a rise with the Wroxton Grange bed & breakfast on your right\, the Club is about 100 metres down on the left hand side.
URL:https://keynetonmcc.asn.au/event/excecutive-meeting-4/
LOCATION:Angaston Machine Preservation Society\, Fife Street\, Angaston
CATEGORIES:Meetings
ATTACH;FMTTYPE=image/jpeg:https://keynetonmcc.asn.au/wp-content/uploads/2014/12/Clubrooms_sml.jpg
END:VEVENT
BEGIN:VEVENT
DTSTART;TZID=Australia/Adelaide:20220910T080000
DTEND;TZID=Australia/Adelaide:20220911T160000
DTSTAMP:20260426T005106
CREATED:20220330T103049Z
LAST-MODIFIED:20220330T124239Z
UID:1490-1662796800-1662912000@keynetonmcc.asn.au
SUMMARY:South Australian Trial Championships
DESCRIPTION:Please Note: Details for this event are still TBA.
URL:https://keynetonmcc.asn.au/event/south-australian-trial-championships/
CATEGORIES:Major Events,Open Events
ATTACH;FMTTYPE=image/png:https://keynetonmcc.asn.au/wp-content/uploads/2018/08/2018-SA-Champs.png
END:VEVENT
BEGIN:VEVENT
DTSTART;TZID=Australia/Adelaide:20220501T080000
DTEND;TZID=Australia/Adelaide:20220501T160000
DTSTAMP:20260426T005106
CREATED:20220330T104815Z
LAST-MODIFIED:20220330T104815Z
UID:1688-1651392000-1651420800@keynetonmcc.asn.au
SUMMARY:Ride Day
DESCRIPTION:Entry to our Ride Days are through your Ridernet profile\, or visit [Ridernet]
URL:https://keynetonmcc.asn.au/event/ride-day-7/
CATEGORIES:Club Events
ATTACH;FMTTYPE=image/jpeg:https://keynetonmcc.asn.au/wp-content/uploads/2016/05/RideDay3.jpg
END:VEVENT
BEGIN:VEVENT
DTSTART;TZID=Australia/Adelaide:20220208T193000
DTEND;TZID=Australia/Adelaide:20220208T213000
DTSTAMP:20260426T005106
CREATED:20141124T115246Z
LAST-MODIFIED:20220110T113047Z
UID:124-1644348600-1644355800@keynetonmcc.asn.au
SUMMARY:Executive Meeting
DESCRIPTION:To get to the Club\, turn right at the top of the Angaston main street (Murray St.) and follow the Eden Valley road out past the Barossa’s famous Yalumba winery until you see the Keyneton MCC road sign on the Flaxmans Valley Road intersection. Follow the road out about 3 kilometres until you crest a rise with the Wroxton Grange bed & breakfast on your right\, the Club is about 100 metres down on the left hand side.
URL:https://keynetonmcc.asn.au/event/excecutive-meeting-2/
LOCATION:Angaston Machine Preservation Society\, Fife Street\, Angaston
CATEGORIES:Meetings
ATTACH;FMTTYPE=image/png:https://keynetonmcc.asn.au/wp-content/uploads/2014/10/KeyLogo_col.png
END:VEVENT
BEGIN:VEVENT
DTSTART;TZID=Australia/Adelaide:20180922T080000
DTEND;TZID=Australia/Adelaide:20180923T153000
DTSTAMP:20260426T005106
CREATED:20180725T121416Z
LAST-MODIFIED:20180725T122452Z
UID:1482-1537603200-1537716600@keynetonmcc.asn.au
SUMMARY:2018 SAORC Rounds 6 -7
DESCRIPTION:Venue TBA
URL:https://keynetonmcc.asn.au/event/2018-saorc-rounds-6-7/
CATEGORIES:Open Events
ATTACH;FMTTYPE=image/jpeg:https://keynetonmcc.asn.au/wp-content/uploads/2018/07/SAORC.jpg
END:VEVENT
END:VCALENDAR