BEGIN:VCALENDAR
VERSION:2.0
PRODID:-//Keyneton Motorcyle Club Inc. - ECPv6.15.20//NONSGML v1.0//EN
CALSCALE:GREGORIAN
METHOD:PUBLISH
X-WR-CALNAME:Keyneton Motorcyle Club Inc.
X-ORIGINAL-URL:https://keynetonmcc.asn.au
X-WR-CALDESC:Events for Keyneton Motorcyle Club Inc.
REFRESH-INTERVAL;VALUE=DURATION:PT1H
X-Robots-Tag:noindex
X-PUBLISHED-TTL:PT1H
BEGIN:VTIMEZONE
TZID:Australia/Adelaide
BEGIN:STANDARD
TZOFFSETFROM:+1030
TZOFFSETTO:+0930
TZNAME:ACST
DTSTART:20170401T163000
END:STANDARD
BEGIN:DAYLIGHT
TZOFFSETFROM:+0930
TZOFFSETTO:+1030
TZNAME:ACDT
DTSTART:20170930T163000
END:DAYLIGHT
BEGIN:STANDARD
TZOFFSETFROM:+1030
TZOFFSETTO:+0930
TZNAME:ACST
DTSTART:20180331T163000
END:STANDARD
BEGIN:DAYLIGHT
TZOFFSETFROM:+0930
TZOFFSETTO:+1030
TZNAME:ACDT
DTSTART:20181006T163000
END:DAYLIGHT
BEGIN:STANDARD
TZOFFSETFROM:+1030
TZOFFSETTO:+0930
TZNAME:ACST
DTSTART:20190406T163000
END:STANDARD
BEGIN:DAYLIGHT
TZOFFSETFROM:+0930
TZOFFSETTO:+1030
TZNAME:ACDT
DTSTART:20191005T163000
END:DAYLIGHT
BEGIN:STANDARD
TZOFFSETFROM:+1030
TZOFFSETTO:+0930
TZNAME:ACST
DTSTART:20200404T163000
END:STANDARD
BEGIN:DAYLIGHT
TZOFFSETFROM:+0930
TZOFFSETTO:+1030
TZNAME:ACDT
DTSTART:20201003T163000
END:DAYLIGHT
BEGIN:STANDARD
TZOFFSETFROM:+1030
TZOFFSETTO:+0930
TZNAME:ACST
DTSTART:20210403T163000
END:STANDARD
BEGIN:DAYLIGHT
TZOFFSETFROM:+0930
TZOFFSETTO:+1030
TZNAME:ACDT
DTSTART:20211002T163000
END:DAYLIGHT
BEGIN:STANDARD
TZOFFSETFROM:+1030
TZOFFSETTO:+0930
TZNAME:ACST
DTSTART:20220402T163000
END:STANDARD
BEGIN:DAYLIGHT
TZOFFSETFROM:+0930
TZOFFSETTO:+1030
TZNAME:ACDT
DTSTART:20221001T163000
END:DAYLIGHT
BEGIN:STANDARD
TZOFFSETFROM:+1030
TZOFFSETTO:+0930
TZNAME:ACST
DTSTART:20230401T163000
END:STANDARD
BEGIN:DAYLIGHT
TZOFFSETFROM:+0930
TZOFFSETTO:+1030
TZNAME:ACDT
DTSTART:20230930T163000
END:DAYLIGHT
END:VTIMEZONE
BEGIN:VEVENT
DTSTART;TZID=Australia/Adelaide:20220910T080000
DTEND;TZID=Australia/Adelaide:20220911T160000
DTSTAMP:20260426T000344
CREATED:20220330T103049Z
LAST-MODIFIED:20220330T124239Z
UID:1490-1662796800-1662912000@keynetonmcc.asn.au
SUMMARY:South Australian Trial Championships
DESCRIPTION:Please Note: Details for this event are still TBA.
URL:https://keynetonmcc.asn.au/event/south-australian-trial-championships/
CATEGORIES:Major Events,Open Events
ATTACH;FMTTYPE=image/png:https://keynetonmcc.asn.au/wp-content/uploads/2018/08/2018-SA-Champs.png
END:VEVENT
BEGIN:VEVENT
DTSTART;TZID=Australia/Adelaide:20220501T080000
DTEND;TZID=Australia/Adelaide:20220501T160000
DTSTAMP:20260426T000344
CREATED:20220330T104815Z
LAST-MODIFIED:20220330T104815Z
UID:1688-1651392000-1651420800@keynetonmcc.asn.au
SUMMARY:Ride Day
DESCRIPTION:Entry to our Ride Days are through your Ridernet profile\, or visit [Ridernet]
URL:https://keynetonmcc.asn.au/event/ride-day-7/
CATEGORIES:Club Events
ATTACH;FMTTYPE=image/jpeg:https://keynetonmcc.asn.au/wp-content/uploads/2016/05/RideDay3.jpg
END:VEVENT
BEGIN:VEVENT
DTSTART;TZID=Australia/Adelaide:20220208T193000
DTEND;TZID=Australia/Adelaide:20220208T213000
DTSTAMP:20260426T000344
CREATED:20141124T115246Z
LAST-MODIFIED:20220110T113047Z
UID:124-1644348600-1644355800@keynetonmcc.asn.au
SUMMARY:Executive Meeting
DESCRIPTION:To get to the Club\, turn right at the top of the Angaston main street (Murray St.) and follow the Eden Valley road out past the Barossa’s famous Yalumba winery until you see the Keyneton MCC road sign on the Flaxmans Valley Road intersection. Follow the road out about 3 kilometres until you crest a rise with the Wroxton Grange bed & breakfast on your right\, the Club is about 100 metres down on the left hand side.
URL:https://keynetonmcc.asn.au/event/excecutive-meeting-2/
LOCATION:Angaston Machine Preservation Society\, Fife Street\, Angaston
CATEGORIES:Meetings
ATTACH;FMTTYPE=image/png:https://keynetonmcc.asn.au/wp-content/uploads/2014/10/KeyLogo_col.png
END:VEVENT
BEGIN:VEVENT
DTSTART;TZID=Australia/Adelaide:20180922T080000
DTEND;TZID=Australia/Adelaide:20180923T153000
DTSTAMP:20260426T000344
CREATED:20180725T121416Z
LAST-MODIFIED:20180725T122452Z
UID:1482-1537603200-1537716600@keynetonmcc.asn.au
SUMMARY:2018 SAORC Rounds 6 -7
DESCRIPTION:Venue TBA
URL:https://keynetonmcc.asn.au/event/2018-saorc-rounds-6-7/
CATEGORIES:Open Events
ATTACH;FMTTYPE=image/jpeg:https://keynetonmcc.asn.au/wp-content/uploads/2018/07/SAORC.jpg
END:VEVENT
END:VCALENDAR