BEGIN:VCALENDAR
VERSION:2.0
PRODID:-//Keyneton Motorcyle Club Inc. - ECPv4.6.13//NONSGML v1.0//EN
CALSCALE:GREGORIAN
METHOD:PUBLISH
X-WR-CALNAME:Keyneton Motorcyle Club Inc.
X-ORIGINAL-URL:https://keynetonmcc.asn.au
X-WR-CALDESC:Events for Keyneton Motorcyle Club Inc.
BEGIN:VEVENT
DTSTART;TZID=Australia/Adelaide:20190226T193000
DTEND;TZID=Australia/Adelaide:20190226T230000
DTSTAMP:20190227T072156
CREATED:20141124T120007Z
LAST-MODIFIED:20190124T071117Z
UID:127-1551209400-1551222000@keynetonmcc.asn.au
SUMMARY:General Meeting
DESCRIPTION:To get to the Club\, turn right at the top of the Angaston main street (Murray St.) and follow the Eden Valley road out past the Barossa’s famous Yalumba winery until you see the Keyneton MCC road sign on the Flaxmans Valley Road intersection. Follow the road out about 3 kilometres until you crest a rise with the Wroxton Grange bed & breakfast on your right\, the Club is about 100 metres down on the left hand side. \n
URL:https://keynetonmcc.asn.au/event/excecutive-meeting-4/
LOCATION:281 Flaxmans Valley Road\, Angaston
CATEGORIES:Meetings
ATTACH;FMTTYPE=image/jpeg:https://keynetonmcc.asn.au/wp-content/uploads/2014/12/Clubrooms_sml.jpg
END:VEVENT
END:VCALENDAR